BEGIN:VCALENDAR
VERSION:2.0
PRODID:-//University of Washington Nutrition Obesity Research Center - ECPv6.15.20//NONSGML v1.0//EN
CALSCALE:GREGORIAN
METHOD:PUBLISH
X-WR-CALNAME:University of Washington Nutrition Obesity Research Center
X-ORIGINAL-URL:https://uwnorc.org
X-WR-CALDESC:Events for University of Washington Nutrition Obesity Research Center
REFRESH-INTERVAL;VALUE=DURATION:PT1H
X-Robots-Tag:noindex
X-PUBLISHED-TTL:PT1H
BEGIN:VTIMEZONE
TZID:UTC
BEGIN:STANDARD
TZOFFSETFROM:+0000
TZOFFSETTO:+0000
TZNAME:UTC
DTSTART:20210101T000000
END:STANDARD
END:VTIMEZONE
BEGIN:VEVENT
DTSTART;TZID=UTC:20250212T090000
DTEND;TZID=UTC:20250212T170000
DTSTAMP:20260424T112902
CREATED:20240719T005008Z
LAST-MODIFIED:20250204T183838Z
UID:1673-1739350800-1739379600@uwnorc.org
SUMMARY:NW Metabolomics Research Center (NW MRC) UW NORC Metabolomics Symposium 2025
DESCRIPTION:The Diabetes and Metabolism Seminar Series presents: Metabolomics Symposium \nFebruary 12\, 2025 (Wednesday) | 8:30 am – 4:15 pm PST \nMetab2025_Flyer \nKeynote speaker: Tom Metz\, PhD \nTalk title: Integrating multiple spectrometries and computational predictions of molecular properties for reference-free compound identification \n \nThis will be an in person event held at: \nUW Medicine at South Lake Union \nOrin Smith Auditorium \n850 Republican St. Seattle 98109 \nPlease register for the event using the following link: \nhttps://diabetesmetabseminars.com/ \n  \n 
URL:https://uwnorc.org/event/metabolomics-symposium/
LOCATION:Orin Smith Auditorium\, 850 Republican Street\, Seattle\, WA\, 98109\, United States
END:VEVENT
BEGIN:VEVENT
DTSTART;TZID=UTC:20250130T090000
DTEND;TZID=UTC:20250130T170000
DTSTAMP:20260424T112902
CREATED:20240719T004737Z
LAST-MODIFIED:20250107T211301Z
UID:1672-1738227600-1738256400@uwnorc.org
SUMMARY:Diabetes Research Center (DRC)/Nutrition Obesity Research Center (NORC) Annual Retreat
DESCRIPTION:The Diabetes and Metabolism Seminar Series presents: \nDRC/NORC RETREAT  \nGuest Speaker: Kevin Williams\, PhD (UT Southwestern) \nPresentations by P&F Awardees and Core Highlights \nJanuary 30\, 2025 (Thursday) \n9:00 am – 4:00 pm PST \nThis will be an in person event held at: \nUW Medicine at South Lake Union \nOrin Smith Auditorium \n850 Republican St. Seattle 98109 \n————————————– \nTrainee Roundtable @ SLU C123B \nJanuary 31\, 2025 (Friday) \n12:00 am – 1:00 pm PST \nDRC NORC Retreat 2025 Flyer \n  \nPlease register for the event using the following link: \nhttps://diabetesmetabseminars.com/
URL:https://uwnorc.org/event/drc-norc-retreat/
LOCATION:Orin Smith Auditorium\, 850 Republican Street\, Seattle\, WA\, 98109\, United States
END:VEVENT
BEGIN:VEVENT
DTSTART;TZID=UTC:20241030T090000
DTEND;TZID=UTC:20241030T130000
DTSTAMP:20260424T112902
CREATED:20240717T224954Z
LAST-MODIFIED:20241004T211447Z
UID:1668-1730278800-1730293200@uwnorc.org
SUMMARY:Kroc Symposium
DESCRIPTION:The Diabetes and Metabolism Seminar Series presents: \nType 2 Diabetes Symposium featuring Kroc Visiting Scholar Lecture \nOctober 30th\, 2024 (Wednesday) \n9:00 am – 12:30 pm PST \n  \nThis will be an in person event held at: \nUW Medicine at South Lake Union \nOrin Smith Auditorium \n850 Republican St. Seattle 98109 \n  \nSchedule Attached Kroc Flyer \n  \nPlease register for the event using the following link: \nhttps://diabetesmetabseminars.com/ \n 
URL:https://uwnorc.org/event/kroc-symposium/
LOCATION:Orin Smith Auditorium\, 850 Republican Street\, Seattle\, WA\, 98109\, United States
END:VEVENT
BEGIN:VEVENT
DTSTART;TZID=UTC:20240215T090000
DTEND;TZID=UTC:20240215T170000
DTSTAMP:20260424T112902
CREATED:20230925T214401Z
LAST-MODIFIED:20240110T010644Z
UID:1577-1707987600-1708016400@uwnorc.org
SUMMARY:Annual DRC/NORC Retreat
DESCRIPTION:This will be an in person event held at: \nUW Medicine at South Lake Union\nOrin Smith Auditorium\n850 Republican St. Seattle 98109\nWith option to attend via Zoom \nView Event Schedule DRC.NORC Retreat Flyer \nPlease Register Here.
URL:https://uwnorc.org/event/annual-drc-norc-retreat/
LOCATION:Orin Smith Auditorium\, 850 Republican Street\, Seattle\, WA\, 98109\, United States
END:VEVENT
BEGIN:VEVENT
DTSTART;TZID=UTC:20230112T113000
DTEND;TZID=UTC:20230112T143000
DTSTAMP:20260424T112902
CREATED:20230118T231710Z
LAST-MODIFIED:20230118T231710Z
UID:1467-1673523000-1673533800@uwnorc.org
SUMMARY:Cystic Fibrosis/Diabetes Symposium
DESCRIPTION:Cystic Fibrosis/Diabetes Symposium \nJanuary 12th\, 2023 (Thursday) \n11:30 am – 2:30 pm PST  \n  \nThis will be an in person event held at: \nUW Medicine at South Lake Union \nOrin Smith Auditorium \n850 Republican St. Seattle 98109 \nWith option to attend via Zoom \n  \nRefreshments and a light lunch will be provided. Schedule Attached. \n  \nCF-Diabetes Symposium 2023 Flyer
URL:https://uwnorc.org/event/cystic-fibrosis-diabetes-symposium/
LOCATION:Orin Smith Auditorium\, 850 Republican Street\, Seattle\, WA\, 98109\, United States
ORGANIZER;CN="UWMDI":MAILTO:uwdi@medicine.washington.edu
END:VEVENT
BEGIN:VEVENT
DTSTART;TZID=UTC:20221007T090000
DTEND;TZID=UTC:20221007T170000
DTSTAMP:20260424T112902
CREATED:20220914T225415Z
LAST-MODIFIED:20220927T183255Z
UID:1349-1665133200-1665162000@uwnorc.org
SUMMARY:THE DIABETES AND METABOLISM SEMINAR SERIES AND THE NW-METABOLOMICS RESEARCH CENTER PRESENTS: Nutrition\, Metabolism and Metabolomics: New Frontiers and Intersections
DESCRIPTION:THE DIABETES AND METABOLISM SEMINAR SERIES AND THE NW-METABOLOMICS RESEARCH CENTER PRESENTS: \nNutrition\, Metabolism and Metabolomics: New Frontiers and Intersections \n  \nFriday\, October 7th\, 2022 \n9:00 AM – 5:00 PM PDT (In-Person Session) | Orin Smith Auditorium at UW South Lake Union \nRegistration link here.  Flyer link: NewFrontiers-2022-Flyer-2 \n  \nKeynote Speaker: Nichole Reisdorph\, PhD\, Professor\, Mass Spectrometry Facility Director \nDepartment of Pharmaceutical Sciences – University of Colorado\, Anschutz Medical Campus \n  \nKeynote talk: “Nutrimetabolomics reveals small molecule-associated changes to health outcomes following DASH- and Mediterranean-dietary interventions” \n  \nJointly Sponsored by Diabetes Research Center\, UW Medicine Diabetes Institute\, UW Nutrition Obesity Research Center\, NW Metabolomics Research Center\, and UW Center for Translational Muscle Research
URL:https://uwnorc.org/event/the-diabetes-and-metabolism-seminar-series-and-the-nw-metabolomics-research-center-presents-nutrition-metabolism-and-metabolomics-new-frontiers-and-intersections/
LOCATION:Orin Smith Auditorium\, 850 Republican Street\, Seattle\, WA\, 98109\, United States
END:VEVENT
END:VCALENDAR